
 
   


BEGIN:VCALENDAR
VERSION:2.0
PRODID:-//ASEEM - ECPv6.15.11//NONSGML v1.0//EN
CALSCALE:GREGORIAN
METHOD:PUBLISH
X-ORIGINAL-URL:https://aseem.org
X-WR-CALDESC:Events for ASEEM
REFRESH-INTERVAL;VALUE=DURATION:PT1H
X-Robots-Tag:noindex
X-PUBLISHED-TTL:PT1H
BEGIN:VTIMEZONE
TZID:UTC
BEGIN:STANDARD
TZOFFSETFROM:+0000
TZOFFSETTO:+0000
TZNAME:UTC
DTSTART:20160101T000000
END:STANDARD
END:VTIMEZONE
BEGIN:VEVENT
DTSTART;TZID=UTC:20170720T080000
DTEND;TZID=UTC:20170720T170000
DTSTAMP:20260423T211450
CREATED:20170720T054425Z
LAST-MODIFIED:20181004T055655Z
UID:377-1500537600-1500570000@aseem.org
SUMMARY:National Convention on  Social Equity & Empowerment 2016 (Bhim Milan)
DESCRIPTION:National Convention on  Social Equity & Empowerment 2016 (Bhim Milan)
URL:https://aseem.org/aseemevent/national-convention-on-social-equity-empowerment-2016-bhim-milan/
CATEGORIES:Latest events,Upcoming Events
END:VEVENT
END:VCALENDAR